BEGIN:VCALENDAR
VERSION:2.0
PRODID:-//Tukios.com/
BEGIN:VEVENT
UID:6faf4797-4666-4463-8e64-5a8f809f4058@www.escudefuneralhome.com
DTSTAMP:20260421T005536Z
DTSTART:20260422T223000Z
DTEND:20260422T233000Z
SUMMARY:Funeral Service
DESCRIPTION:
URL:https://www.escudefuneralhome.com/obituaries/geneva-ponthieux
LOCATION:Escude Funeral Home in Mansura 6608 Porterie St  Mansura LA 
	71350
GEO:31.0596608;-92.0530023
END:VEVENT
END:VCALENDAR