BEGIN:VCALENDAR
VERSION:2.0
PRODID:-//Tukios.com/
BEGIN:VEVENT
UID:8b05b74d-cbf8-4ef1-88f9-ea5fd605310b@www.escudefuneralhome.com
DTSTAMP:20260421T005316Z
DTSTART:20260422T203000Z
DTEND:20260423T023000Z
SUMMARY:Visitation
DESCRIPTION:
URL:https://www.escudefuneralhome.com/obituaries/geneva-ponthieux
LOCATION:Escude Funeral Home in Mansura 6608 Porterie St  Mansura LA 
	71350
GEO:31.0596608;-92.0530023
END:VEVENT
END:VCALENDAR